BEGIN:VCALENDAR
VERSION:2.0
PRODID:-//NADI Kampung Tanah Hitam Sematan - ECPv6.15.13.1//NONSGML v1.0//EN
CALSCALE:GREGORIAN
METHOD:PUBLISH
X-WR-CALNAME:NADI Kampung Tanah Hitam Sematan
X-ORIGINAL-URL:https://kgtanahhitam.nadi.my
X-WR-CALDESC:Events for NADI Kampung Tanah Hitam Sematan
REFRESH-INTERVAL;VALUE=DURATION:PT1H
X-Robots-Tag:noindex
X-PUBLISHED-TTL:PT1H
BEGIN:VTIMEZONE
TZID:UTC
BEGIN:STANDARD
TZOFFSETFROM:+0000
TZOFFSETTO:+0000
TZNAME:UTC
DTSTART:20220101T000000
END:STANDARD
END:VTIMEZONE
BEGIN:VEVENT
DTSTART;TZID=UTC:20230909T080000
DTEND;TZID=UTC:20230909T170000
DTSTAMP:20260420T085617
CREATED:20230905T190026Z
LAST-MODIFIED:20230905T190026Z
UID:4548-1694246400-1694278800@kgtanahhitam.nadi.my
SUMMARY:Digital Learning - E-Tuisyen
DESCRIPTION:
URL:https://kgtanahhitam.nadi.my/event/digital-learning-e-tuisyen-19/
CATEGORIES:DEFAULT
END:VEVENT
BEGIN:VEVENT
DTSTART;TZID=UTC:20230909T080000
DTEND;TZID=UTC:20230909T170000
DTSTAMP:20260420T085617
CREATED:20230905T190026Z
LAST-MODIFIED:20230905T190026Z
UID:4549-1694246400-1694278800@kgtanahhitam.nadi.my
SUMMARY:Digital Learning - E-Tuisyen
DESCRIPTION:
URL:https://kgtanahhitam.nadi.my/event/digital-learning-e-tuisyen-20/
CATEGORIES:DEFAULT
END:VEVENT
END:VCALENDAR