BEGIN:VCALENDAR
VERSION:2.0
PRODID:-//NADI Kampung Tanah Hitam Sematan - ECPv6.15.13.1//NONSGML v1.0//EN
CALSCALE:GREGORIAN
METHOD:PUBLISH
X-WR-CALNAME:NADI Kampung Tanah Hitam Sematan
X-ORIGINAL-URL:https://kgtanahhitam.nadi.my
X-WR-CALDESC:Events for NADI Kampung Tanah Hitam Sematan
REFRESH-INTERVAL;VALUE=DURATION:PT1H
X-Robots-Tag:noindex
X-PUBLISHED-TTL:PT1H
BEGIN:VTIMEZONE
TZID:UTC
BEGIN:STANDARD
TZOFFSETFROM:+0000
TZOFFSETTO:+0000
TZNAME:UTC
DTSTART:20220101T000000
END:STANDARD
END:VTIMEZONE
BEGIN:VEVENT
DTSTART;TZID=UTC:20231126T141500
DTEND;TZID=UTC:20231126T151500
DTSTAMP:20260420T103458
CREATED:20231103T005946Z
LAST-MODIFIED:20231103T005946Z
UID:4662-1701008100-1701011700@kgtanahhitam.nadi.my
SUMMARY:Digital Learning - E-Tuisyen
DESCRIPTION:
URL:https://kgtanahhitam.nadi.my/event/digital-learning-e-tuisyen-32/
CATEGORIES:DEFAULT
END:VEVENT
BEGIN:VEVENT
DTSTART;TZID=UTC:20231126T141500
DTEND;TZID=UTC:20231126T151500
DTSTAMP:20260420T103458
CREATED:20231103T005946Z
LAST-MODIFIED:20231103T005946Z
UID:4669-1701008100-1701011700@kgtanahhitam.nadi.my
SUMMARY:Digital Learning - E-Tuisyen
DESCRIPTION:
URL:https://kgtanahhitam.nadi.my/event/digital-learning-e-tuisyen-34/
CATEGORIES:DEFAULT
END:VEVENT
END:VCALENDAR