BEGIN:VCALENDAR
VERSION:2.0
PRODID:-//NADI Kampung Tanah Hitam Sematan - ECPv6.15.13.1//NONSGML v1.0//EN
CALSCALE:GREGORIAN
METHOD:PUBLISH
X-WR-CALNAME:NADI Kampung Tanah Hitam Sematan
X-ORIGINAL-URL:https://kgtanahhitam.nadi.my
X-WR-CALDESC:Events for NADI Kampung Tanah Hitam Sematan
REFRESH-INTERVAL;VALUE=DURATION:PT1H
X-Robots-Tag:noindex
X-PUBLISHED-TTL:PT1H
BEGIN:VTIMEZONE
TZID:UTC
BEGIN:STANDARD
TZOFFSETFROM:+0000
TZOFFSETTO:+0000
TZNAME:UTC
DTSTART:20220101T000000
END:STANDARD
END:VTIMEZONE
BEGIN:VEVENT
DTSTART;TZID=UTC:20230807T103000
DTEND;TZID=UTC:20230807T120000
DTSTAMP:20260420T154405
CREATED:20230731T231648Z
LAST-MODIFIED:20230731T231648Z
UID:4517-1691404200-1691409600@kgtanahhitam.nadi.my
SUMMARY:Modul Asas Keusahawanan - Pengurusan Sumber Manusia
DESCRIPTION:
URL:https://kgtanahhitam.nadi.my/event/modul-asas-keusahawanan-pengurusan-sumber-manusia/
CATEGORIES:DEFAULT
END:VEVENT
BEGIN:VEVENT
DTSTART;TZID=UTC:20230807T103000
DTEND;TZID=UTC:20230807T120000
DTSTAMP:20260420T154405
CREATED:20230731T231648Z
LAST-MODIFIED:20230731T231648Z
UID:4528-1691404200-1691409600@kgtanahhitam.nadi.my
SUMMARY:Modul Asas Keusahawanan - Pengurusan Sumber Manusia
DESCRIPTION:
URL:https://kgtanahhitam.nadi.my/event/modul-asas-keusahawanan-pengurusan-sumber-manusia-2/
CATEGORIES:DEFAULT
END:VEVENT
BEGIN:VEVENT
DTSTART;TZID=UTC:20230808T103000
DTEND;TZID=UTC:20230808T120000
DTSTAMP:20260420T154405
CREATED:20230731T231734Z
LAST-MODIFIED:20230731T231734Z
UID:4520-1691490600-1691496000@kgtanahhitam.nadi.my
SUMMARY:Entering The Job Market - Resume Writing
DESCRIPTION:
URL:https://kgtanahhitam.nadi.my/event/entering-the-job-market-resume-writing-5/
CATEGORIES:DEFAULT
END:VEVENT
BEGIN:VEVENT
DTSTART;TZID=UTC:20230809T103000
DTEND;TZID=UTC:20230809T120000
DTSTAMP:20260420T154405
CREATED:20230731T231906Z
LAST-MODIFIED:20230731T231906Z
UID:4521-1691577000-1691582400@kgtanahhitam.nadi.my
SUMMARY:Agrotechnology - Smart Farming
DESCRIPTION:
URL:https://kgtanahhitam.nadi.my/event/agrotechnology-smart-farming-3/
CATEGORIES:DEFAULT
END:VEVENT
BEGIN:VEVENT
DTSTART;TZID=UTC:20230815T103000
DTEND;TZID=UTC:20230815T120000
DTSTAMP:20260420T154405
CREATED:20230731T232021Z
LAST-MODIFIED:20230731T232021Z
UID:4523-1692095400-1692100800@kgtanahhitam.nadi.my
SUMMARY:Entering The Job Market - Business Etiquette And Personal Grooming
DESCRIPTION:
URL:https://kgtanahhitam.nadi.my/event/entering-the-job-market-business-etiquette-and-personal-grooming-6/
CATEGORIES:DEFAULT
END:VEVENT
BEGIN:VEVENT
DTSTART;TZID=UTC:20230816T103000
DTEND;TZID=UTC:20230816T170000
DTSTAMP:20260420T154405
CREATED:20230731T233851Z
LAST-MODIFIED:20230731T233851Z
UID:4526-1692181800-1692205200@kgtanahhitam.nadi.my
SUMMARY:Entering The Job Market - Interview Skills
DESCRIPTION:
URL:https://kgtanahhitam.nadi.my/event/entering-the-job-market-interview-skills-6/
CATEGORIES:DEFAULT
END:VEVENT
BEGIN:VEVENT
DTSTART;TZID=UTC:20230817T103000
DTEND;TZID=UTC:20230817T120000
DTSTAMP:20260420T154405
CREATED:20230804T224016Z
LAST-MODIFIED:20230804T224016Z
UID:4527-1692268200-1692273600@kgtanahhitam.nadi.my
SUMMARY:Modul Asas Keusahawanan - Pengurusan Kewangan Perniagaan
DESCRIPTION:
URL:https://kgtanahhitam.nadi.my/event/modul-asas-keusahawanan-pengurusan-kewangan-perniagaan/
CATEGORIES:DEFAULT
END:VEVENT
BEGIN:VEVENT
DTSTART;TZID=UTC:20230819T033000
DTEND;TZID=UTC:20230819T163000
DTSTAMP:20260420T154405
CREATED:20230806T173847Z
LAST-MODIFIED:20230806T173847Z
UID:4537-1692415800-1692462600@kgtanahhitam.nadi.my
SUMMARY:Digital Learning - E-Tuisyen
DESCRIPTION:
URL:https://kgtanahhitam.nadi.my/event/digital-learning-e-tuisyen-17/
CATEGORIES:DEFAULT
END:VEVENT
BEGIN:VEVENT
DTSTART;TZID=UTC:20230822T103000
DTEND;TZID=UTC:20230822T120000
DTSTAMP:20260420T154405
CREATED:20230804T224106Z
LAST-MODIFIED:20230804T224106Z
UID:4529-1692700200-1692705600@kgtanahhitam.nadi.my
SUMMARY:Modul Asas Keusahawanan - Tips Pengurusan Sumber Manusia
DESCRIPTION:
URL:https://kgtanahhitam.nadi.my/event/modul-asas-keusahawanan-tips-pengurusan-sumber-manusia/
CATEGORIES:DEFAULT
END:VEVENT
BEGIN:VEVENT
DTSTART;TZID=UTC:20230824T103000
DTEND;TZID=UTC:20230824T120000
DTSTAMP:20260420T154405
CREATED:20230804T224316Z
LAST-MODIFIED:20230804T224316Z
UID:4530-1692873000-1692878400@kgtanahhitam.nadi.my
SUMMARY:Cakna Gaya Hidup - Pengurusan Kewangan Peribadi
DESCRIPTION:
URL:https://kgtanahhitam.nadi.my/event/cakna-gaya-hidup-pengurusan-kewangan-peribadi-3/
CATEGORIES:DEFAULT
END:VEVENT
BEGIN:VEVENT
DTSTART;TZID=UTC:20230824T103000
DTEND;TZID=UTC:20230824T120000
DTSTAMP:20260420T154405
CREATED:20230804T224316Z
LAST-MODIFIED:20230804T224316Z
UID:4531-1692873000-1692878400@kgtanahhitam.nadi.my
SUMMARY:Cakna Gaya Hidup - Pengurusan Kewangan Peribadi
DESCRIPTION:
URL:https://kgtanahhitam.nadi.my/event/cakna-gaya-hidup-pengurusan-kewangan-peribadi-4/
CATEGORIES:DEFAULT
END:VEVENT
BEGIN:VEVENT
DTSTART;TZID=UTC:20230826T033000
DTEND;TZID=UTC:20230826T163000
DTSTAMP:20260420T154405
CREATED:20230806T173915Z
LAST-MODIFIED:20230806T173915Z
UID:4538-1693020600-1693067400@kgtanahhitam.nadi.my
SUMMARY:Digital Learning - E-Tuisyen
DESCRIPTION:
URL:https://kgtanahhitam.nadi.my/event/digital-learning-e-tuisyen-18/
CATEGORIES:DEFAULT
END:VEVENT
BEGIN:VEVENT
DTSTART;TZID=UTC:20230827T080000
DTEND;TZID=UTC:20230827T170000
DTSTAMP:20260420T154405
CREATED:20230804T224415Z
LAST-MODIFIED:20230804T224415Z
UID:4534-1693123200-1693155600@kgtanahhitam.nadi.my
SUMMARY:Tayangan Filem Patriotik
DESCRIPTION:
URL:https://kgtanahhitam.nadi.my/event/tayangan-filem-patriotik/
CATEGORIES:DEFAULT
END:VEVENT
BEGIN:VEVENT
DTSTART;TZID=UTC:20230827T080000
DTEND;TZID=UTC:20230827T170000
DTSTAMP:20260420T154405
CREATED:20230804T224415Z
LAST-MODIFIED:20230804T224415Z
UID:4536-1693123200-1693155600@kgtanahhitam.nadi.my
SUMMARY:Tayangan Filem Patriotik
DESCRIPTION:
URL:https://kgtanahhitam.nadi.my/event/tayangan-filem-patriotik-2/
CATEGORIES:DEFAULT
END:VEVENT
BEGIN:VEVENT
DTSTART;TZID=UTC:20230828T080000
DTEND;TZID=UTC:20230828T170000
DTSTAMP:20260420T154405
CREATED:20230804T224451Z
LAST-MODIFIED:20230804T224451Z
UID:4539-1693209600-1693242000@kgtanahhitam.nadi.my
SUMMARY:Warnai Kemerdekaan (Mewarna Digital)
DESCRIPTION:
URL:https://kgtanahhitam.nadi.my/event/warnai-kemerdekaan-mewarna-digital-2/
CATEGORIES:DEFAULT
END:VEVENT
BEGIN:VEVENT
DTSTART;TZID=UTC:20230828T080000
DTEND;TZID=UTC:20230828T170000
DTSTAMP:20260420T154405
CREATED:20230804T224451Z
LAST-MODIFIED:20230804T224451Z
UID:4535-1693209600-1693242000@kgtanahhitam.nadi.my
SUMMARY:Warnai Kemerdekaan (Mewarna Digital)
DESCRIPTION:
URL:https://kgtanahhitam.nadi.my/event/warnai-kemerdekaan-mewarna-digital/
CATEGORIES:DEFAULT
END:VEVENT
BEGIN:VEVENT
DTSTART;TZID=UTC:20230829T103000
DTEND;TZID=UTC:20230829T120000
DTSTAMP:20260420T154405
CREATED:20230804T224345Z
LAST-MODIFIED:20230804T224345Z
UID:4533-1693305000-1693310400@kgtanahhitam.nadi.my
SUMMARY:Modul Asas Keusahawanan - Mindset Usahawan
DESCRIPTION:
URL:https://kgtanahhitam.nadi.my/event/modul-asas-keusahawanan-mindset-usahawan-7/
CATEGORIES:DEFAULT
END:VEVENT
BEGIN:VEVENT
DTSTART;TZID=UTC:20230829T103000
DTEND;TZID=UTC:20230829T120000
DTSTAMP:20260420T154405
CREATED:20230804T224345Z
LAST-MODIFIED:20230804T224345Z
UID:4532-1693305000-1693310400@kgtanahhitam.nadi.my
SUMMARY:Modul Asas Keusahawanan - Mindset Usahawan
DESCRIPTION:
URL:https://kgtanahhitam.nadi.my/event/modul-asas-keusahawanan-mindset-usahawan-6/
CATEGORIES:DEFAULT
END:VEVENT
END:VCALENDAR