BEGIN:VCALENDAR
VERSION:2.0
PRODID:-//NADI Kampung Tanah Hitam Sematan - ECPv6.15.13.1//NONSGML v1.0//EN
CALSCALE:GREGORIAN
METHOD:PUBLISH
X-WR-CALNAME:NADI Kampung Tanah Hitam Sematan
X-ORIGINAL-URL:https://kgtanahhitam.nadi.my
X-WR-CALDESC:Events for NADI Kampung Tanah Hitam Sematan
REFRESH-INTERVAL;VALUE=DURATION:PT1H
X-Robots-Tag:noindex
X-PUBLISHED-TTL:PT1H
BEGIN:VTIMEZONE
TZID:UTC
BEGIN:STANDARD
TZOFFSETFROM:+0000
TZOFFSETTO:+0000
TZNAME:UTC
DTSTART:20220101T000000
END:STANDARD
END:VTIMEZONE
BEGIN:VEVENT
DTSTART;TZID=UTC:20231001T140000
DTEND;TZID=UTC:20231001T170000
DTSTAMP:20260420T124944
CREATED:20231001T002547Z
LAST-MODIFIED:20231001T002547Z
UID:4587-1696168800-1696179600@kgtanahhitam.nadi.my
SUMMARY:Advokasi Klik Dengan Bijak - Penipuan Internet
DESCRIPTION:
URL:https://kgtanahhitam.nadi.my/event/advokasi-klik-dengan-bijak-penipuan-internet/
CATEGORIES:DEFAULT
END:VEVENT
BEGIN:VEVENT
DTSTART;TZID=UTC:20231001T140000
DTEND;TZID=UTC:20231001T170000
DTSTAMP:20260420T124944
CREATED:20231001T002547Z
LAST-MODIFIED:20231001T002547Z
UID:4591-1696168800-1696179600@kgtanahhitam.nadi.my
SUMMARY:Advokasi Klik Dengan Bijak - Penipuan Internet
DESCRIPTION:
URL:https://kgtanahhitam.nadi.my/event/advokasi-klik-dengan-bijak-penipuan-internet-2/
CATEGORIES:DEFAULT
END:VEVENT
BEGIN:VEVENT
DTSTART;TZID=UTC:20231001T140000
DTEND;TZID=UTC:20231001T170000
DTSTAMP:20260420T124944
CREATED:20231001T002547Z
LAST-MODIFIED:20231001T002547Z
UID:4592-1696168800-1696179600@kgtanahhitam.nadi.my
SUMMARY:Advokasi Klik Dengan Bijak - Penipuan Internet
DESCRIPTION:
URL:https://kgtanahhitam.nadi.my/event/advokasi-klik-dengan-bijak-penipuan-internet-3/
CATEGORIES:DEFAULT
END:VEVENT
BEGIN:VEVENT
DTSTART;TZID=UTC:20231002T140000
DTEND;TZID=UTC:20231002T170000
DTSTAMP:20260420T124944
CREATED:20231001T002726Z
LAST-MODIFIED:20231001T002726Z
UID:4596-1696255200-1696266000@kgtanahhitam.nadi.my
SUMMARY:Kelas ICT - Google Map
DESCRIPTION:
URL:https://kgtanahhitam.nadi.my/event/kelas-ict-google-map-2/
CATEGORIES:DEFAULT
END:VEVENT
BEGIN:VEVENT
DTSTART;TZID=UTC:20231002T140000
DTEND;TZID=UTC:20231002T170000
DTSTAMP:20260420T124944
CREATED:20231001T002726Z
LAST-MODIFIED:20231001T002726Z
UID:4593-1696255200-1696266000@kgtanahhitam.nadi.my
SUMMARY:Kelas ICT - Google Map
DESCRIPTION:
URL:https://kgtanahhitam.nadi.my/event/kelas-ict-google-map/
CATEGORIES:DEFAULT
END:VEVENT
BEGIN:VEVENT
DTSTART;TZID=UTC:20231003T140000
DTEND;TZID=UTC:20231003T170000
DTSTAMP:20260420T124944
CREATED:20231002T001125Z
LAST-MODIFIED:20231002T001125Z
UID:4598-1696341600-1696352400@kgtanahhitam.nadi.my
SUMMARY:STEM - IoT - Blooming Flower
DESCRIPTION:
URL:https://kgtanahhitam.nadi.my/event/stem-iot-blooming-flower-2/
CATEGORIES:DEFAULT
END:VEVENT
BEGIN:VEVENT
DTSTART;TZID=UTC:20231003T140000
DTEND;TZID=UTC:20231003T170000
DTSTAMP:20260420T124944
CREATED:20231002T001125Z
LAST-MODIFIED:20231002T001125Z
UID:4594-1696341600-1696352400@kgtanahhitam.nadi.my
SUMMARY:STEM - IoT - Blooming Flower
DESCRIPTION:
URL:https://kgtanahhitam.nadi.my/event/stem-iot-blooming-flower/
CATEGORIES:DEFAULT
END:VEVENT
BEGIN:VEVENT
DTSTART;TZID=UTC:20231005T140000
DTEND;TZID=UTC:20231005T170000
DTSTAMP:20260420T124944
CREATED:20231003T010139Z
LAST-MODIFIED:20231003T010139Z
UID:4609-1696514400-1696525200@kgtanahhitam.nadi.my
SUMMARY:Advokasi Klik Dengan Bijak - Buli Siber
DESCRIPTION:
URL:https://kgtanahhitam.nadi.my/event/advokasi-klik-dengan-bijak-buli-siber-8/
CATEGORIES:DEFAULT
END:VEVENT
BEGIN:VEVENT
DTSTART;TZID=UTC:20231005T140000
DTEND;TZID=UTC:20231005T170000
DTSTAMP:20260420T124944
CREATED:20231003T010139Z
LAST-MODIFIED:20231003T010139Z
UID:4605-1696514400-1696525200@kgtanahhitam.nadi.my
SUMMARY:Advokasi Klik Dengan Bijak - Buli Siber
DESCRIPTION:
URL:https://kgtanahhitam.nadi.my/event/advokasi-klik-dengan-bijak-buli-siber-7/
CATEGORIES:DEFAULT
END:VEVENT
BEGIN:VEVENT
DTSTART;TZID=UTC:20231007T153000
DTEND;TZID=UTC:20231007T163000
DTSTAMP:20260420T124944
CREATED:20231003T005332Z
LAST-MODIFIED:20231003T005332Z
UID:4603-1696692600-1696696200@kgtanahhitam.nadi.my
SUMMARY:Digital Learning - E-Tuisyen
DESCRIPTION:
URL:https://kgtanahhitam.nadi.my/event/digital-learning-e-tuisyen-25/
CATEGORIES:DEFAULT
END:VEVENT
BEGIN:VEVENT
DTSTART;TZID=UTC:20231007T153000
DTEND;TZID=UTC:20231007T163000
DTSTAMP:20260420T124944
CREATED:20231003T005332Z
LAST-MODIFIED:20231003T005332Z
UID:4599-1696692600-1696696200@kgtanahhitam.nadi.my
SUMMARY:Digital Learning - E-Tuisyen
DESCRIPTION:
URL:https://kgtanahhitam.nadi.my/event/digital-learning-e-tuisyen-23/
CATEGORIES:DEFAULT
END:VEVENT
BEGIN:VEVENT
DTSTART;TZID=UTC:20231008T080000
DTEND;TZID=UTC:20231008T170000
DTSTAMP:20260420T124944
CREATED:20231002T002031Z
LAST-MODIFIED:20231002T002031Z
UID:4595-1696752000-1696784400@kgtanahhitam.nadi.my
SUMMARY:Kursus Latihan Pengendali Makanan (Kluster Lundu)
DESCRIPTION:
URL:https://kgtanahhitam.nadi.my/event/kursus-latihan-pengendali-makanan-kluster-lundu/
CATEGORIES:DEFAULT
END:VEVENT
BEGIN:VEVENT
DTSTART;TZID=UTC:20231008T080000
DTEND;TZID=UTC:20231008T170000
DTSTAMP:20260420T124944
CREATED:20231002T002031Z
LAST-MODIFIED:20231002T002031Z
UID:4600-1696752000-1696784400@kgtanahhitam.nadi.my
SUMMARY:Kursus Latihan Pengendali Makanan (Kluster Lundu)
DESCRIPTION:
URL:https://kgtanahhitam.nadi.my/event/kursus-latihan-pengendali-makanan-kluster-lundu-2/
CATEGORIES:DEFAULT
END:VEVENT
BEGIN:VEVENT
DTSTART;TZID=UTC:20231008T080000
DTEND;TZID=UTC:20231008T170000
DTSTAMP:20260420T124944
CREATED:20231005T230400Z
LAST-MODIFIED:20231005T230400Z
UID:4620-1696752000-1696784400@kgtanahhitam.nadi.my
SUMMARY:E-Pembelajaran - Kuiz ICT (Kahoot)
DESCRIPTION:
URL:https://kgtanahhitam.nadi.my/event/e-pembelajaran-kuiz-ict-kahoot-2/
CATEGORIES:DEFAULT
END:VEVENT
BEGIN:VEVENT
DTSTART;TZID=UTC:20231008T080000
DTEND;TZID=UTC:20231008T170000
DTSTAMP:20260420T124944
CREATED:20231005T230400Z
LAST-MODIFIED:20231005T230400Z
UID:4610-1696752000-1696784400@kgtanahhitam.nadi.my
SUMMARY:E-Pembelajaran - Kuiz ICT (Kahoot)
DESCRIPTION:
URL:https://kgtanahhitam.nadi.my/event/e-pembelajaran-kuiz-ict-kahoot/
CATEGORIES:DEFAULT
END:VEVENT
BEGIN:VEVENT
DTSTART;TZID=UTC:20231008T140000
DTEND;TZID=UTC:20231008T170000
DTSTAMP:20260420T124944
CREATED:20231003T010205Z
LAST-MODIFIED:20231003T010205Z
UID:4618-1696773600-1696784400@kgtanahhitam.nadi.my
SUMMARY:E-Pembelajaran
DESCRIPTION:
URL:https://kgtanahhitam.nadi.my/event/e-pembelajaran-35/
CATEGORIES:DEFAULT
END:VEVENT
BEGIN:VEVENT
DTSTART;TZID=UTC:20231008T140000
DTEND;TZID=UTC:20231008T170000
DTSTAMP:20260420T124944
CREATED:20231003T010205Z
LAST-MODIFIED:20231003T010205Z
UID:4608-1696773600-1696784400@kgtanahhitam.nadi.my
SUMMARY:E-Pembelajaran
DESCRIPTION:
URL:https://kgtanahhitam.nadi.my/event/e-pembelajaran-34/
CATEGORIES:DEFAULT
END:VEVENT
BEGIN:VEVENT
DTSTART;TZID=UTC:20231010T080000
DTEND;TZID=UTC:20231010T170000
DTSTAMP:20260420T124944
CREATED:20231006T001226Z
LAST-MODIFIED:20231006T001226Z
UID:4644-1696924800-1696957200@kgtanahhitam.nadi.my
SUMMARY:Kelas Keusahawanan - Link in Bio Tools
DESCRIPTION:
URL:https://kgtanahhitam.nadi.my/event/kelas-keusahawanan-link-in-bio-tools-5/
CATEGORIES:DEFAULT
END:VEVENT
BEGIN:VEVENT
DTSTART;TZID=UTC:20231010T080000
DTEND;TZID=UTC:20231010T170000
DTSTAMP:20260420T124944
CREATED:20231006T001226Z
LAST-MODIFIED:20231006T001226Z
UID:4641-1696924800-1696957200@kgtanahhitam.nadi.my
SUMMARY:Kelas Keusahawanan - Link in Bio Tools
DESCRIPTION:
URL:https://kgtanahhitam.nadi.my/event/kelas-keusahawanan-link-in-bio-tools-4/
CATEGORIES:DEFAULT
END:VEVENT
BEGIN:VEVENT
DTSTART;TZID=UTC:20231010T080000
DTEND;TZID=UTC:20231010T170000
DTSTAMP:20260420T124944
CREATED:20231006T001226Z
LAST-MODIFIED:20231006T001226Z
UID:4636-1696924800-1696957200@kgtanahhitam.nadi.my
SUMMARY:Kelas Keusahawanan - Link in Bio Tools
DESCRIPTION:
URL:https://kgtanahhitam.nadi.my/event/kelas-keusahawanan-link-in-bio-tools-3/
CATEGORIES:DEFAULT
END:VEVENT
BEGIN:VEVENT
DTSTART;TZID=UTC:20231011T080000
DTEND;TZID=UTC:20231011T170000
DTSTAMP:20260420T124944
CREATED:20231005T230441Z
LAST-MODIFIED:20231005T230441Z
UID:4611-1697011200-1697043600@kgtanahhitam.nadi.my
SUMMARY:Advokasi Klik Dengan Bijak - Maklumat Palsu
DESCRIPTION:
URL:https://kgtanahhitam.nadi.my/event/advokasi-klik-dengan-bijak-maklumat-palsu-9/
CATEGORIES:DEFAULT
END:VEVENT
BEGIN:VEVENT
DTSTART;TZID=UTC:20231011T080000
DTEND;TZID=UTC:20231011T170000
DTSTAMP:20260420T124944
CREATED:20231005T230441Z
LAST-MODIFIED:20231005T230441Z
UID:4623-1697011200-1697043600@kgtanahhitam.nadi.my
SUMMARY:Advokasi Klik Dengan Bijak - Maklumat Palsu
DESCRIPTION:
URL:https://kgtanahhitam.nadi.my/event/advokasi-klik-dengan-bijak-maklumat-palsu-11/
CATEGORIES:DEFAULT
END:VEVENT
BEGIN:VEVENT
DTSTART;TZID=UTC:20231011T080000
DTEND;TZID=UTC:20231011T170000
DTSTAMP:20260420T124944
CREATED:20231005T230441Z
LAST-MODIFIED:20231005T230441Z
UID:4621-1697011200-1697043600@kgtanahhitam.nadi.my
SUMMARY:Advokasi Klik Dengan Bijak - Maklumat Palsu
DESCRIPTION:
URL:https://kgtanahhitam.nadi.my/event/advokasi-klik-dengan-bijak-maklumat-palsu-10/
CATEGORIES:DEFAULT
END:VEVENT
BEGIN:VEVENT
DTSTART;TZID=UTC:20231013T080000
DTEND;TZID=UTC:20231013T170000
DTSTAMP:20260420T124944
CREATED:20231005T230619Z
LAST-MODIFIED:20231005T230619Z
UID:4622-1697184000-1697216400@kgtanahhitam.nadi.my
SUMMARY:Advokasi Klik Dengan Bijak - Permainan Dalam Talian
DESCRIPTION:
URL:https://kgtanahhitam.nadi.my/event/advokasi-klik-dengan-bijak-permainan-dalam-talian-5/
CATEGORIES:DEFAULT
END:VEVENT
BEGIN:VEVENT
DTSTART;TZID=UTC:20231013T080000
DTEND;TZID=UTC:20231013T170000
DTSTAMP:20260420T124944
CREATED:20231005T230619Z
LAST-MODIFIED:20231005T230619Z
UID:4612-1697184000-1697216400@kgtanahhitam.nadi.my
SUMMARY:Advokasi Klik Dengan Bijak - Permainan Dalam Talian
DESCRIPTION:
URL:https://kgtanahhitam.nadi.my/event/advokasi-klik-dengan-bijak-permainan-dalam-talian-4/
CATEGORIES:DEFAULT
END:VEVENT
BEGIN:VEVENT
DTSTART;TZID=UTC:20231013T080000
DTEND;TZID=UTC:20231013T170000
DTSTAMP:20260420T124944
CREATED:20231005T230619Z
LAST-MODIFIED:20231005T230619Z
UID:4625-1697184000-1697216400@kgtanahhitam.nadi.my
SUMMARY:Advokasi Klik Dengan Bijak - Permainan Dalam Talian
DESCRIPTION:
URL:https://kgtanahhitam.nadi.my/event/advokasi-klik-dengan-bijak-permainan-dalam-talian-6/
CATEGORIES:DEFAULT
END:VEVENT
BEGIN:VEVENT
DTSTART;TZID=UTC:20231017T140000
DTEND;TZID=UTC:20231017T170000
DTSTAMP:20260420T124944
CREATED:20231005T231527Z
LAST-MODIFIED:20231005T231527Z
UID:4627-1697551200-1697562000@kgtanahhitam.nadi.my
SUMMARY:Kelas ICT - Tangkas Menaip (Fast Finger)
DESCRIPTION:
URL:https://kgtanahhitam.nadi.my/event/kelas-ict-tangkas-menaip-fast-finger-2/
CATEGORIES:DEFAULT
END:VEVENT
BEGIN:VEVENT
DTSTART;TZID=UTC:20231017T140000
DTEND;TZID=UTC:20231017T170000
DTSTAMP:20260420T124944
CREATED:20231005T231527Z
LAST-MODIFIED:20231005T231527Z
UID:4614-1697551200-1697562000@kgtanahhitam.nadi.my
SUMMARY:Kelas ICT - Tangkas Menaip (Fast Finger)
DESCRIPTION:
URL:https://kgtanahhitam.nadi.my/event/kelas-ict-tangkas-menaip-fast-finger/
CATEGORIES:DEFAULT
END:VEVENT
BEGIN:VEVENT
DTSTART;TZID=UTC:20231017T140000
DTEND;TZID=UTC:20231017T170000
DTSTAMP:20260420T124944
CREATED:20231005T231527Z
LAST-MODIFIED:20231005T231527Z
UID:4631-1697551200-1697562000@kgtanahhitam.nadi.my
SUMMARY:Kelas ICT - Tangkas Menaip (Fast Finger)
DESCRIPTION:
URL:https://kgtanahhitam.nadi.my/event/kelas-ict-tangkas-menaip-fast-finger-3/
CATEGORIES:DEFAULT
END:VEVENT
BEGIN:VEVENT
DTSTART;TZID=UTC:20231018T140000
DTEND;TZID=UTC:20231018T153000
DTSTAMP:20260420T124944
CREATED:20231006T000705Z
LAST-MODIFIED:20231006T000705Z
UID:4643-1697637600-1697643000@kgtanahhitam.nadi.my
SUMMARY:PUPUK@Shopee 2023 - Tingkatkan Taraf Kedai Shopee Anda
DESCRIPTION:
URL:https://kgtanahhitam.nadi.my/event/pupukshopee-2023-tingkatkan-taraf-kedai-shopee-anda-3/
CATEGORIES:DEFAULT
END:VEVENT
END:VCALENDAR